Workbook
Name _Toc482292184: Sheet2!$A$2

Sheet 説明書
E5: 印刷後に防災危機管理課へ提出してください。
B6: 作成方法（手順）
B7: 入力シートのタブをクリック → 入力シートの水色のセルに必要事項を入力 → 印刷シートのタブをクリック →
B8: 印刷シートの避難経路図の欄にデータを貼り付け（※） → カラー印刷して完成です。
B10: (※）データの貼り付け方法（画面のハードコピー） 以下はGoogleマップから避難場所を張り付ける場合です。
B11: インターネットでGoogleマップへ
B12: → 自施設から避難所までの徒歩ルートを検索
B13: → 自施設と避難所が分かるように画面を表示し、ある程度の大きさに地図を拡大
B14: → 画面を表示した状態でパソコンの「Ctrl」キー（左下）と「PrtScr」キー（右上）を同時に押す
B15: → このエクセルファイルの印刷シートタブをクリックし
B16: → 「（７）施設周辺の避難経路図及び浸水継続時間」の囲みの中で右クリック・貼り付け
B17: → Googleマップの画面がそのまま貼り付けられます → 画像が四角枠に収まるよう大きさを調整
B19: 浸水深、浸水継続時間の調べ方
... B24: 水害対応ガイドブック：https://www.city.settsu.osaka.jp/material/files/group/61/guidebook.pdf
G28: 洪水時の避難確保計画 | Q28: 令和 | R28: 2 | S28: 年 | T28: 3 | U28: 月 | V28: 4 | W28: 日作成
A29: 施設名称 | C29: 摂津ホーム
A31: １ 計画の目的
B32: この計画は、水防法第１５条の３第１項に基づき、施設利用者の洪水時の円滑かつ迅速な避難の
B33: 確保を図ることを目的とする。
A35: ２ 計画の報告
B36: 計画を作成及び必要に応じて見直し・修正をしたときは、水防法第１５条の３第２項に基づき、遅滞
B37: なく、当該計画を市長へ報告する。
A39: ３ 計画の適用範囲 | AB39: 病院・診療所
B40: この計画は、本施設に勤務又は利用するすべての者に適用するものとする。 | AB40: 高齢者福祉施設（通所介護）
A41: =入力シート!$A$16 -> 【施設情報】 | AB41: 高齢者福祉施設（特定施設入居者生活介護）
AB42: 高齢者福祉施設（認知症対応型共同生活介護＜グループホーム＞）
A43: （１）所在地 | C43: 摂津市三島１－１－１ | AB43: 高齢者福祉施設（認知症対応型通所介護）
AB44: 高齢者福祉施設（地域密着型介護老人福祉施設）
A45: （２）施設の種類 | C45: 高齢者福祉施設（認知症対応型共同生活介護＜グループホーム＞） | AB45: 高齢者福祉施設（その他）
A47: （３）利用状況及び職員体制 | AB47: 障がい者福祉施設
B48: 時間帯 | C48: 10 | D48: ： | E48: 30 | F48: ～ | G48: 11 | H48: ： | I48: 30 | J48: 15 | K48: ： | L48: 0 | M48: ～ | N48: 19 | O48: ： | P48: 0 | R48: ： | T48: ～ | V48: ： | AB48: 児童福祉施設
B49: 最大利用者数 | C49: 30 | I49: 人 | J49: 25 | P49: 人 | W49: 人 | AB49: 保育施設
B50: 職員数 | C50: 8 | I50: 人 | J50: 6 | P50: 人 | W50: 人 | AB50: 幼稚園ほか
B51: その他 | C51: 日祝日及び水・土の午後は休み
AB52: 平屋建て | AD52: 淀川
AB53: ２階建て | AD53: 安威川・山田川・正雀川・大正川・境川
A54: （４）建物の階層
B55: ３階建て以上 | H55: （３階建て以上の場合： | I55: 9 | J55: 階建て） | AH55: １２時間未満
O56: ●大阪府のホームページ 洪水リスク表示図 | AB56: ３階建て以上 | AH56: １２～２４時間(１日)未満
A57: （５）洪水の影響を受ける河川 | O57: http://www.river.pref.osaka.jp/ | AH57: ２４～７２時間(３日)未満
B58: 淀川 | L58: 浸水深 ： | AH58: ７２～１６８時間(１週間)未満
AH59: １６８～３３６時間(２週間)未満
AB60: 千里丘小学校 | AH60: ３３６～６７２時間(４週間)未満
AB61: 千里丘公民館
AB62: 第三中学校 | AH62: ０．５ｍ未満
A63: （６）市が指定する近隣の避難所 | AB63: 三宅柳田小学校 | AH63: ０．５ｍ～３．０ｍ未満
B64: 味舌小学校 | L64: 浸水継続時間 ： | AB64: 子育て総合支援センター遊戯室 （旧三宅小学校内） | AH64: ３．０～５．０ｍ未満
L65: 施設 | AB65: 摂津小学校 | AH65: ５．０～１０．０ｍ未満
L66: 近隣避難所 | AB66: 第一中学校 | AH66: １０．０～２０．０ｍ未満
A67: （７）施設周辺の避難経路図及び浸水継続時間 | AB67: コミュニティプラザ | AH67: ０．５ｍ～３．０ｍ未満
B68: 洪水時の避難場所は、洪水ハザードマップの想定浸水域および浸水深から、以下の場所とする。 | AB68: 味舌小学校
B69: 避難経路図 | E69: 近隣の避難所 | AB69: 正雀体育館
AB70: 安威川公民館
C71: 施設等と避難所までの避難経路を記載してください。 | AB71: 市民図書館
C72: 当該洪水浸水想定区域図と浸水継続時間図を添付してください。 | AB72: 別府コミュニティセンター
AB73: 別府小学校
AB74: 第四中学校
AB75: 味生体育館
AB76: 味生小学校
AB77: 味生公民館
AB78: 鳥飼西小学校
AB79: 第二中学校
AB80: 鳥飼小学校
AB81: 鳥飼北小学校
AB82: 新鳥飼公民館
AB83: 鳥飼体育館
AB84: 第五中学校
... AB93: ㈱かんでんエンジニアリング
A98: =入力シート!$A$73 -> ４ 防災体制
B99: 事前に要員体制を定め、段階的に避難確保の体制を確立する
A100: （１）要員体制
B101: 時間帯 | C101: =IF(C48>0,C48,"") -> 10 | D101: ： | E101: =IF(E48>0,E48,IF(E48="","",0)) -> 30 | F101: ～ | G101: =IF(G48>0,G48,"") -> 11 | H101: ： | I101: =IF(I48>0,I48,IF(I48="","",0)) -> 30 | J101: =IF(J48>0,J48,"") -> 15 | K101: ： | L101: =IF(L48>0,L48,IF(L48="","",0)) -> 0 | M101: ～ | N101: =IF(N48>0,N48,"") -> 19 | O101: ： | P101: =IF(P48>0,P48,IF(P48="","",0)) -> 0 | Q101: =IF(Q48>0,Q48,"") | R101: ： | S101: =IF(S48>0,S48,IF(S48="","",0)) | T101: ～ | U101: =IF(U48>0,U48,"") | V101: ： | W101: =IF(W48>0,W48,IF(W48="","",0))
B102: 情報収集伝達要員 | D102: 1 | F102: ～ | G102: 2 | I102: 人 | K102: 1 | M102: ～ | N102: 2 | P102: 人 | T102: ～ | W102: 人 | AC102: ○ | AE102: 聞こえる
B103: 避難誘導要員 | D103: 3 | F103: ～ | I103: 人 | K103: 3 | M103: ～ | P103: 人 | T103: ～ | W103: 人 | AC103: × | AE103: 聞こえない
B104: その他の要員 | D104: 2 | F104: ～ | G104: 3 | I104: 人 | K104: 1 | M104: ～ | N104: 2 | P104: 人 | T104: ～ | W104: 人 | AC104: テレビ | AG104: =IF(I135="○",1,0) -> 1
AC105: ラジオ | AG105: =IF(M135="○",2,0) -> 2
A106: （２）体制確立 | AC106: テレビ・ラジオ | AG106: =IF(X135="○",5,0) -> 5
B107: 体制確立の判断時期 | I107: 体制 | L107: 活動内容 | S107: 対応要員 | AC107: インターネット | AG107: =SUM(AG104:AG106) -> 8
B108: 次のいずれかに該当 | I108: 注意体制確立 | L108: 洪水予報等の情報収集 | S108: 情報収集伝達要員 | AC108: テレビ・インターネット
B109: 【警戒レベル２】 | AC109: ラジオ・インターネット
B110: ◆摂津市に洪水注意報発表 | AC110: テレビ・ラジオ・インターネット
B111: ="◆"&$B$58&"に氾濫注意情報発表" -> ◆淀川に氾濫注意情報発表 | Z111: 気象庁HP | AA111: http://www.jma.go.jp/jma/index.html | AC111: ・インターネット閲覧先
B112: 次のいずれかに該当 | I112: 警戒体制１確立 | L112: 洪水予報等の情報収集 | S112: 情報収集伝達要員 避難誘導要員 | AF112: など
B113: 【警戒レベル３】 | L113: 使用する資器材等の準備 | Z113: 河川防災情報
B114: ◆摂津市に洪水警報発表 | L114: 家族等への事前連絡（※） | Z114: http://www.osaka-kasen-portal.net/suibou/index.html | AE114: 1 | AF114: テレビ
B115: ="◆"&$B$58&"に氾濫警戒情報発表" -> ◆淀川に氾濫警戒情報発表 | L115: 周辺住民への | Z115: おおさか防災ネット | AE115: 2 | AF115: ラジオ
L116: 事前協力依頼（※） | Z116: http://www.osaka-kasen-portal.net/suibou/kouzuiyosoku/index_kouzui.htm | AE116: 3 | AF116: テレビ・ラジオ
B117: =$B$113 -> 【警戒レベル３】 | I117: 警戒体制２確立 | L117: 要配慮者の避難誘導 | Z117: 重ねるハザードマップ | AE117: 5 | AF117: インターネット
B118: ◆避難準備、高齢者等避難開始 | L118: 家族等への連絡（※） | Z118: https://disaportal.gsi.go.jp/index.html | AE118: 6 | AF118: テレビ・インターネット
F119: の発令 | L119: 周辺住民への | AE119: 7 | AF119: ラジオ・インターネット
L120: 協力依頼（※） | Z120: 摂津市ホームページ | AE120: 8 | AF120: テレビ・ラジオ・インターネット | AI120: =IF(I135="○",1,0) -> 1
B121: 次のいずれかに該当 | I121: 非常体制確立 | L121: 施設全体の避難誘導 | S121: 避難誘導要員 | Z121: http://www.city.settsu.osaka.jp/ | AE121: =AE114+100 -> 101 | AF121: テレビ・防災行政無線（屋外拡声器） | AI121: =IF(M135="○",2,0) -> 2
B122: 【警戒レベル４】 | AE122: =AE115+100 -> 102 | AF122: ラジオ・防災行政無線（屋外拡声器） | AI122: =IF(X135="○",5,0) -> 5
B123: ◆避難勧告又は避難指示（緊急） | AE123: =AE116+100 -> 103 | AF123: テレビ・ラジオ・防災行政無線（屋外拡声器） | AI123: =IF(G136="聞こえる",100,0) -> 100
F124: の発令 | Z124: 川の防災情報 | AE124: =AE117+100 -> 105 | AF124: インターネット・防災行政無線（屋外拡声器） | AI124: =SUM(AI120:AI123) -> 108
B125: ="◆"&$B$58&"に氾濫危険情報発表" -> ◆淀川に氾濫危険情報発表 | Z125: https://www.river.go.jp/portal/#80 | AE125: =AE118+100 -> 106 | AF125: テレビ・インターネット・防災行政無線（屋外拡声器）
X126: （※）必要に応じて実施 | Z126: 浸水ナビ | AE126: =AE119+100 -> 107 | AF126: ラジオ・インターネット・防災行政無線（屋外拡声器）
B127: ●表内の事項のほか、統括管理者の指揮命令に従うものとする。 | Z127: https://suiboumap.gsi.go.jp/ | AE127: 108 | AF127: テレビ・ラジオ・インターネット・防災行政無線（屋外拡声器）
B128: ●必要に応じて地域の協力を得られる体制を準備するものとする。 | Z128: 洪水リスク表示図
B129: ●警戒レベル３「避難準備・高齢者等避難開始」等が発令されていなくても、雨量等の気象情報や水位情報 | Z129: http://www.river.pref.osaka.jp/
...

Sheet 入力シート
G1: 洪水時の避難確保計画 | Q1: 令和 | S1: 年 | U1: 月 | W1: 日作成
A3: 施設名称
A5: =説明書!A31 -> １ 計画の目的
B6: =説明書!B32 -> この計画は、水防法第１５条の３第１項に基づき、施設利用者の洪水時の円滑かつ迅速な避難の
B7: =説明書!B33 -> 確保を図ることを目的とする。
A9: =説明書!A35 -> ２ 計画の報告
B10: =説明書!B36 -> 計画を作成及び必要に応じて見直し・修正をしたときは、水防法第１５条の３第２項に基づき、遅滞
B11: =説明書!B37 -> なく、当該計画を市長へ報告する。
A13: =説明書!A39 -> ３ 計画の適用範囲
B14: =説明書!B40 -> この計画は、本施設に勤務又は利用するすべての者に適用するものとする。
A16: 【施設情報】
A18: （１）所在地
AB19: 病院・診療所
A20: （２）施設の種類 | AB20: 高齢者福祉施設（通所介護）
AB21: 高齢者福祉施設（介護老人福祉施設）
A22: （３）利用状況及び職員体制 | AB22: 高齢者福祉施設（特定施設入居者生活介護）
B23: 時間帯 | D23: ： | F23: ～ | H23: ： | K23: ： | M23: ～ | O23: ： | R23: ： | T23: ～ | V23: ： | AB23: 高齢者福祉施設（認知症対応型共同生活介護＜グループホーム＞）
B24: 最大利用者数 | I24: 人 | P24: 人 | W24: 人 | AB24: 高齢者福祉施設（認知症対応型通所介護）
B25: 職員数 | I25: 人 | P25: 人 | W25: 人 | AB25: 高齢者福祉施設（地域密着型介護老人福祉施設）
B26: その他 | AB26: 高齢者福祉施設（その他）
AB27: 障がい者福祉施設
A28: （４）建物の階層 | AB28: 児童福祉施設
H29: （３階建て以上の場合： | J29: 階建て） | AB29: 保育施設
AB30: 幼稚園ほか
A31: （５）洪水の影響を受ける河川
L32: 浸水深 ： | AB32: 平屋建て | AD32: 淀川
AB33: ２階建て | AD33: 安威川・山田川・正雀川・大正川・境川
AB34: ３階建て以上
A35: （６）市が指定する近隣の避難所 | L35: 浸水継続時間
L36: 施設
L37: 近隣避難所
AB38: 千里丘小学校
A39: =説明書!A67 -> （７）施設周辺の避難経路図及び浸水継続時間 | AB39: 千里丘公民館 | AE39: ０．５ｍ未満
B40: =説明書!B68 -> 洪水時の避難場所は、洪水ハザードマップの想定浸水域および浸水深から、以下の場所とする。 | AB40: 第三中学校 | AE40: ０．５ｍ～３．０ｍ未満
B41: =説明書!B69 -> 避難経路図 | E41: 近隣の避難所 | J41: =IF(B36="","",B36) | Q41: =IF(B37="","",B37) | AB41: 三宅柳田小学校 | AE41: ３．０～５．０ｍ未満
AB42: 子育て総合支援センター遊戯室 （旧三宅小学校内） | AE42: ５．０～１０．０ｍ未満
AB43: 摂津小学校 | AE43: １０．０～２０．０ｍ未満
AB44: 第一中学校
AB45: コミュニティプラザ | AE45: １２時間未満
AB46: 味舌小学校 | AE46: １２～２４時間(１日)未満
AB47: 正雀体育館 | AE47: ２４～７２時間(３日)未満
AB48: 安威川公民館 | AE48: ７２～１６８時間(１週間)未満
AB49: 市民図書館 | AE49: １６８～３３６時間(２週間)未満
AB50: 別府コミュニティセンター | AE50: ３３６～６７２時間(４週間)未満
AB51: 別府小学校
AB52: 第四中学校
AB53: 味生体育館
AB54: 味生小学校
AB55: 味生公民館
AB56: 鳥飼西小学校
AB57: 第二中学校
AB58: 鳥飼小学校
AB59: 鳥飼北小学校
AB60: 新鳥飼公民館
AB61: 鳥飼体育館
AB62: 第五中学校
... AB69: 大阪人間科学大学A、B号館
AB70: 摂津支援学校とりかい高等支援学校 体育館２階 | AF70: =IF(I111="○",1,0) -> 0
AB71: ㈱かんでんエンジニアリング | AF71: =IF(M111="○",2,0) -> 0
AB72: 味舌体育館
A73: ４ 防災体制 | AB73: 三星ダイヤモンド工業㈱本社(4階食堂)
B74: 事前に要員体制を定め、段階的に避難確保の体制を確立する
A75: =説明書!A100 -> （１）要員体制 | Z75: 気象庁HP | AA75: http://www.jma.go.jp/jma/index.html
B76: 時間帯 | C76: =IF(C23>0,C23,"") | D76: ： | E76: =IF(E23>0,E23,IF(E23="","",0)) | F76: ～ | G76: =IF(G23>0,G23,"") | H76: ： | I76: =IF(I23>0,I23,IF(I23="","",0)) | J76: =IF(J23>0,J23,"") | K76: ： | L76: =IF(L23>0,L23,IF(L23="","",0)) | M76: ～ | N76: =IF(N23>0,N23,"") | O76: ： | P76: =IF(P23>0,P23,IF(P23="","",0)) | Q76: =IF(Q23>0,Q23,"") | R76: ： | S76: =IF(S23>0,S23,IF(S23="","",0)) | T76: ～ | U76: =IF(U23>0,U23,"") | V76: ： | W76: =IF(W23>0,W23,IF(W23="","",0))
B77: 情報収集伝達要員 | F77: ～ | I77: 人 | M77: ～ | P77: 人 | T77: ～ | W77: 人 | Z77: 河川防災情報
B78: 避難誘導要員 | F78: ～ | I78: 人 | M78: ～ | P78: 人 | T78: ～ | W78: 人 | Z78: http://www.osaka-kasen-portal.net/suibou/index.html
B79: その他の要員 | F79: ～ | I79: 人 | M79: ～ | P79: 人 | T79: ～ | W79: 人 | Z79: おおさか防災ネット
Z80: http://www.osaka-kasen-portal.net/suibou/kouzuiyosoku/index_kouzui.htm
A81: （２）体制確立 | Z81: 重ねるハザードマップ | AC81: ○ | AE81: 聞こえる
B82: 体制確立の判断時期 | I82: 体制 | L82: 活動内容 | S82: 対応要員 | Z82: https://disaportal.gsi.go.jp/index.html | AC82: × | AE82: 聞こえない
B83: 次のいずれかに該当 | I83: 注意体制確立 | L83: 洪水予報等の情報収集 | S83: 情報収集伝達要員 | AC83: テレビ | AF83: =IF(I111="○",1,0) -> 0
B84: 【警戒レベル２】 | Z84: 摂津市ホームページ | AC84: ラジオ | AF84: =IF(M111="○",2,0) -> 0
B85: ◆摂津市に洪水注意報発表 | Z85: http://www.city.settsu.osaka.jp/ | AC85: テレビ・ラジオ | AF85: =IF(X111="○",5,0) -> 0
B86: ="◆"&B32&"に氾濫注意情報発表" -> ◆に氾濫注意情報発表
B87: ="◆"&B33&"に氾濫注意情報発表" -> ◆に氾濫注意情報発表 | AC87: インターネット | AF87: =SUM(AF83:AF85) -> 0
B88: 次のいずれかに該当 | I88: 警戒体制確立 | L88: ・洪水予報等の情報収集 | S88: 情報収集伝達要員 避難誘導要員 | AC88: テレビ・インターネット
B89: 【警戒レベル３】 | L89: ・使用する資器材等の準備 | Z89: 川の防災情報 | AC89: ラジオ・インターネット
B90: ◆高齢者等避難の発令 | L90: ・家族等への事前連絡（※） | Z90: https://www.river.go.jp/portal/#80 | AC90: テレビ・ラジオ・インターネット
B91: ◆摂津市に洪水警報発表 | L91: ・周辺住民への | Z91: 浸水ナビ | AC91: ・インターネット閲覧先
B92: ="◆"&B32&"に氾濫警戒情報発表" -> ◆に氾濫警戒情報発表 | L92: 事前協力依頼（※） | Z92: https://suiboumap.gsi.go.jp/ | AF92: など
B93: ="◆"&B33&"に氾濫警戒情報発表" -> ◆に氾濫警戒情報発表 | L93: ・要配慮者の避難誘導 | Z93: 洪水リスク表示図
L94: ・家族等への連絡（※） | Z94: http://www.river.pref.osaka.jp/ | AF94: 1 | AG94: テレビ
L95: ・周辺住民への | AF95: 2 | AG95: ラジオ
L96: 協力依頼（※） | AF96: 3 | AG96: テレビ・ラジオ
B97: 次のいずれかに該当 | I97: 非常体制確立 | L97: 施設全体の避難誘導 | S97: 避難誘導要員 | AF97: 5 | AG97: インターネット
B98: 【警戒レベル４】 | AF98: 6 | AG98: テレビ・インターネット
B99: ◆避難指示の発令 | AF99: 7 | AG99: ラジオ・インターネット
B100: ="◆"&B32&"に氾濫危険情報発表" -> ◆に氾濫危険情報発表 | AF100: 8 | AG100: テレビ・ラジオ・インターネット | AJ100: =IF(I111="○",1,0) -> 0
B101: ="◆"&B33&"に氾濫危険情報発表" -> ◆に氾濫危険情報発表 | AF101: =AF94+100 -> 101 | AG101: テレビ・防災行政無線（屋外拡声器） | AJ101: =IF(M111="○",2,0) -> 0
X102: （※）必要に応じて実施 | AF102: =AF95+100 -> 102 | AG102: ラジオ・防災行政無線（屋外拡声器） | AJ102: =IF(X111="○",5,0) -> 0
B103: ●表内の事項のほか、統括管理者の指揮命令に従うものとする。 | AF103: =AF96+100 -> 103 | AG103: テレビ・ラジオ・防災行政無線（屋外拡声器） | AJ103: =IF(G112="聞こえる",100,0) -> 0
B104: ●必要に応じて地域の協力を得られる体制を準備するものとする。 | AF104: =AF97+100 -> 105 | AG104: インターネット・防災行政無線（屋外拡声器） | AJ104: =SUM(AJ100:AJ103) -> 0
B105: ●警戒レベル３「高齢者等避難」等が発令されていなくても、雨量等の気象情報や | AF105: =AF98+100 -> 106 | AG105: テレビ・インターネット・防災行政無線（屋外拡声器）
B106: 水位情報等の情報から施設管理者が危険だと判断した場合は避難を開始する。 | AF106: =AF99+100 -> 107 | AG106: ラジオ・インターネット・防災行政無線（屋外拡声器）
B107: ●要配慮者の避難誘導の際に全職員も同時に避難することとする。 | AF107: 108 | AG107: テレビ・ラジオ・インターネット・防災行政無線（屋外拡声器）
A109: ５ 情報収集・伝達
A110: （１）情報収集
B111: 施設にある情報収集機器 | G111: テレビ | K111: ラジオ | O111: パソコン・スマホなど（インターネット）
B112: 防災行政無線（屋外拡声器）
B114: 収集する主な情報及び収集方法は下表のとおりとする
...

Sheet Sheet5
A1: 【参考資料】地域防災計画より
A2: 土砂災害時に避難を要する要配慮者利用施設一覧表
A3: ●土砂災害時に避難を要する要配慮者利用施設
A4: 土砂災害警戒区域の影響範囲に所在する病院及び診療所を掲載。
A5: （健康医療部、令和元年7月1日現在）
A6: 施設区分 | B6: 施設名 | C6: 住所 | D6: 箇所番号
A7: 高齢者福祉施設 | B7: 和貴会スローライフ千里 | C7: 千里万博公園６番８号 | D7: K20500070

Sheet 【参考】避難所一覧
A1: 摂津市避難所及び緊急避難場所
B2: 避難所及び緊急避難場所 | C2: 所在地
A3: 1 | B3: 千里丘小学校 | C3: 千里丘3丁目15-4
A4: 2 | B4: 千里丘公民館 | C4: 千里丘3丁目9-47
A5: 3 | B5: 第三中学校 | C5: 学園町1丁目3-1
A6: 4 | B6: 三宅柳田小学校 | C6: 学園町2丁目9-1
A7: 5 | B7: 子育て総合支援センター遊戯室 （旧三宅小学校内） | C7: 千里丘東1丁目17-46
A8: 6 | B8: 摂津小学校 | C8: 三島3丁目14-60
A9: 7 | B9: 第一中学校 | C9: 南千里丘3-20
A10: 8 | B10: コミュニティプラザ | C10: 南千里丘5-35
A11: 9 | B11: 味舌小学校 | C11: 三島2丁目13-38
A12: 10 | B12: 安威川公民館 | C12: 正雀4丁目9-28
A13: 11 | B13: 市民図書館 | C13: 正雀4丁目9-25
A14: 12 | B14: 別府コミュニティセンター | C14: 別府2丁目10-21
... A32: 30 | B32: 三星ダイヤモンド工業㈱本社(4階食堂) | C32: 香露園32-12

Sheet Sheet2
A1: 【参考資料】地域防災計画より
A2: ７－６ 土砂災害時の避難勧告等の対象エリアと避難所（指定緊急避難場所）一覧表
A3: （総務部危機管理室、平成31年4月1日現在）
A4: 避難を要する区域 | C4: 保全対象 | E4: 避難所 | F4: ブロック
A5: 所在地 | B5: 箇所番号 | C5: 保全人家 | D5: 避難者数 | E5: （指定緊急避難場所） | F5: （雨量計）
A6: 円山町 | B6: K20501150・K20501120・K20501130・21205436 | C6: 55 | D6: 116 | E6: 千里第三小学校
A7: 岸部北4丁目 | B7: K20500712 | C7: 0 | D7: 0 | E7: 岸部第二小学校
A8: 原町2丁目 | B8: K20501090 | C8: 7 | D8: 18 | E8: 千里第一小学校
A9: 原町3丁目 | B9: K20501080・K20501100 | C9: 3 | D9: 8 | E9: 千里第一小学校
A10: 高野台2丁目 | B10: K20501020・K20501010 | C10: 5 | D10: 11 | E10: 高野台小学校
A11: 佐井寺1丁目 | B11: K20500720 | C11: 9 | D11: 24 | E11: 佐井寺小学校
A12: 佐井寺2丁目 | B12: K20500740・K20500730・K20500680・K20500750 | C12: 146 | D12: 365 | E12: 佐井寺小学校
A13: 佐竹台4丁目 | B13: K20500760 | C13: 4 | D13: 12 | E13: 佐竹台小学校
A14: 山手町2丁目 | B14: 22205058 | C14: 4 | D14: 8 | E14: 山手小学校
A15: 山手町3丁目 | B15: K20501240 | C15: 103 | D15: 216 | E15: 山手小学校
A16: 山田西1丁目 | B16: K20501171・K20501200・K20501172・K20500550 | C16: 474 | D16: 1138 | E16: 山田第三小学校
A17: 山田西2丁目 | B17: K20500540・K20500820 | C17: 68 | D17: 156 | E17: 西山田小学校
A18: 山田西3丁目 | B18: K20500560・K20501180 | C18: 511 | D18: 1226 | E18: 西山田小学校
A19: 山田東1丁目 | B19: K20500580・K20500590 | C19: 73 | D19: 183 | E19: 山田第三小学校
A20: 山田東2丁目 | B20: K20501230 | C20: 1 | D20: 3 | E20: 山田第一小学校
A21: 山田東3丁目 | B21: K20501210 | C21: 2 | D21: 5 | E21: 山田第一小学校
A22: 山田東4丁目 | B22: K20500570 | C22: 12 | D22: 28 | E22: 山田第一小学校 | F22: Aブロック
A23: 山田南 | B23: K20500600 | C23: 4 | D23: 9 | E23: 山田第五小学校 | F23: （千里）
A24: 出口町 | B24: K20500640・K20500630 | C24: 2 | D24: 4 | E24: 吹田第二小学校
A25: 春日1丁目 | B25: K20500530 | C25: 4 | D25: 8 | E25: 千里新田小学校
A26: 春日2丁目 | B26: K20500910 | C26: 262 | D26: 681 | E26: 千里新田小学校
A27: 春日4丁目 | B27: 12205075 | C27: 2 | D27: 5 | E27: 千里新田小学校
A28: 上山手町 | B28: K20500700 | C28: 0 | D28: 0 | E28: 片山小学校
A29: 垂水町1丁目 | B29: K20501032・K20501040・K20501130 | C29: 24 | D29: 48 | E29: 豊津第一小学校
A30: 千里山高塚 | B30: K20500840 | C30: 80 | D30: 208 | E30: 佐井寺小学校
A31: 千里山西1丁目 | B31: K20500950・K20500920・K20500940 | C31: 116 | D31: 232 | E31: 千里第三小学校
A32: 千里山西4丁目 | B32: K20500930・K20500832・K20500831 | C32: 400 | D32: 880 | E32: 千里第三小学校
A33: 千里山竹園1丁目 | B33: K20500890・K20500880 | C33: 115 | D33: 276 | E33: 千里第三小学校 | F33: Aブロック
B34: K20500850・12205075 | C34: 18 | D34: 43 | E34: 千里新田小学校 | F34: （千里）
A35: 千里山東1丁目 | B35: K20500980 | C35: 0 | D35: 0 | E35: 千里第二小学校
A36: 千里山東4丁目 | B36: K20501110 | C36: 5 | D36: 13 | E36: 千里第二小学校
A37: 朝日が丘町 | B37: K20500660・K20500670・K20500620 | C37: 10 | D37: 23 | E37: 片山小学校
A38: 津雲台4丁目 | B38: K20501060・K20501050 | C38: 0 | D38: 0 | E38: 津雲台小学校
A39: 千里丘中 | B39: 21205428 | C39: 1 | D39: 2 | E39: 南山田小学校 | F39: Bブロック
A40: 千里万博公園 | B40: K20500070 | C40: 0 | D40: 0 | E40: 北山田小学校 | F40: （茨木）
A41: 長野東 | B41: 11205732 | C41: 10 | D41: 26 | E41: 南山田小学校
A42: 山田丘 | B42: K20500280・K20500430 | C42: 0 | D42: 0 | E42: 藤白台小学校 | F42: Cブロック
A43: 藤白台2丁目 | B43: K20500450 | C43: 1 | D43: 3 | E43: 藤白台小学校 | F43: （粟生間谷）
A44: 藤白台5丁目 | B44: K20500210・K20500460・K20500500・K22002520・K22002480 | C44: 0 | D44: 0 | E44: 青山台小学校
A45: ※避難者数は、保全人家×町丁目別１世帯あたりの人口
A46: ※保全人家は、図上で計測
A47: ※青文字の箇所番号は、急傾斜地崩壊危険箇所
